BEGIN:VCALENDAR
VERSION:2.0
PRODID:-//Louisiana Association of Crisis Negotiators - ECPv6.15.16//NONSGML v1.0//EN
CALSCALE:GREGORIAN
METHOD:PUBLISH
X-WR-CALNAME:Louisiana Association of Crisis Negotiators
X-ORIGINAL-URL:https://lacn.us
X-WR-CALDESC:Events for Louisiana Association of Crisis Negotiators
REFRESH-INTERVAL;VALUE=DURATION:PT1H
X-Robots-Tag:noindex
X-PUBLISHED-TTL:PT1H
BEGIN:VTIMEZONE
TZID:America/Chicago
BEGIN:DAYLIGHT
TZOFFSETFROM:-0600
TZOFFSETTO:-0500
TZNAME:CDT
DTSTART:20250309T080000
END:DAYLIGHT
BEGIN:STANDARD
TZOFFSETFROM:-0500
TZOFFSETTO:-0600
TZNAME:CST
DTSTART:20251102T070000
END:STANDARD
BEGIN:DAYLIGHT
TZOFFSETFROM:-0600
TZOFFSETTO:-0500
TZNAME:CDT
DTSTART:20260308T080000
END:DAYLIGHT
BEGIN:STANDARD
TZOFFSETFROM:-0500
TZOFFSETTO:-0600
TZNAME:CST
DTSTART:20261101T070000
END:STANDARD
BEGIN:DAYLIGHT
TZOFFSETFROM:-0600
TZOFFSETTO:-0500
TZNAME:CDT
DTSTART:20270314T080000
END:DAYLIGHT
BEGIN:STANDARD
TZOFFSETFROM:-0500
TZOFFSETTO:-0600
TZNAME:CST
DTSTART:20271107T070000
END:STANDARD
END:VTIMEZONE
BEGIN:VEVENT
DTSTART;TZID=America/Chicago:20260420T080000
DTEND;TZID=America/Chicago:20260424T170000
DTSTAMP:20260423T090443
CREATED:20260204T202810Z
LAST-MODIFIED:20260226T195120Z
UID:10000679-1776672000-1777050000@lacn.us
SUMMARY:FBI / LACN Basic Crisis Negotiations Course - April 2026
DESCRIPTION:The FBI and LACN will be hosting a 40-hour Basic Crisis Negotiations Course from April 20th through April 24th\, 2026\, at the Superdome in New Orleans\, LA. \nAdditional information about location and parking will be provided to those registered prior to the beginning of the course.  \nThis course will focus on the basic negotiation process and will consist of classroom-based instruction\, debriefs\, and scenario-based training. \nThis course meets the recommendations set forth by the National Council of Negotiator Associations (NCNA) for a Basic Crisis Negotiations Course.  \nDue to the scenario-based training there is a limited number of seats available. Please register promptly. \n**No refunds for cancellations after April 10th\, 2026** \nCLICK HERE for more information!
URL:https://lacn.us/event/fbi-lacn-basic-crisis-negotiations-course-april-2026/
LOCATION:Claiborne Club Lounge\, Poydras Street\, New Orleans\, 70112\, United States
CATEGORIES:Training Course
ATTACH;FMTTYPE=image/jpeg:https://lacn.us/wp-content/uploads/2023/08/FBI-and-LACN-e1704996783925.jpg
END:VEVENT
END:VCALENDAR